BEGIN:VCALENDAR
VERSION:2.0
PRODID:-//Plone.org//NONSGML plone.app.event//EN
X-WR-TIMEZONE:Europe/Berlin
BEGIN:VEVENT
SUMMARY:Neu! Berliner Partizipationsfonds fördert kleine und mittlere Pro
 jekte: Einladung zu Info-Veranstaltungen
DTSTART;TZID=Europe/Berlin;VALUE=DATE-TIME:20240522T150000
DTEND;TZID=Europe/Berlin;VALUE=DATE-TIME:20240522T160000
DTSTAMP;VALUE=DATE-TIME:20260425T151119Z
UID:1cab972494fc40c7b63b5c0c125cbbd5@www.lv-selbsthilfe-berlin.de
CATEGORIES:Infoveranstaltung 2024
CONTACT:LV Selbsthilfe Berlin\, info@lv-selbsthilfe-berlin.de\, https://ww
 w.lv-selbsthilfe-berlin.de/selbsthilfe/weitere-foerdermoeglichkeiten-und-p
 rogramme
CREATED;VALUE=DATE-TIME:20240516T124925Z
LAST-MODIFIED;VALUE=DATE-TIME:20240522T090549Z
LOCATION:Online über Zoom
URL:https://www.lv-selbsthilfe-berlin.de/events/neu-berliner-partizipation
 sfonds-foerdert-kleine-und-mittlere-projekte-einladung-zu-info-veranstaltu
 ngen
END:VEVENT
BEGIN:VTIMEZONE
TZID:Europe/Berlin
X-LIC-LOCATION:Europe/Berlin
BEGIN:DAYLIGHT
DTSTART;VALUE=DATE-TIME:20240331T030000
TZNAME:CEST
TZOFFSETFROM:+0100
TZOFFSETTO:+0200
END:DAYLIGHT
END:VTIMEZONE
END:VCALENDAR
